BEGIN:VCALENDAR
VERSION:2.0
PRODID:-//Marienschule Stuttgart - ECPv6.10.1.1//NONSGML v1.0//EN
CALSCALE:GREGORIAN
METHOD:PUBLISH
X-WR-CALNAME:Marienschule Stuttgart
X-ORIGINAL-URL:http://marienschule-stuttgart.de
X-WR-CALDESC:Veranstaltungen für Marienschule Stuttgart
REFRESH-INTERVAL;VALUE=DURATION:PT1H
X-Robots-Tag:noindex
X-PUBLISHED-TTL:PT1H
BEGIN:VTIMEZONE
TZID:Europe/Berlin
BEGIN:DAYLIGHT
TZOFFSETFROM:+0100
TZOFFSETTO:+0200
TZNAME:CEST
DTSTART:20260329T010000
END:DAYLIGHT
BEGIN:STANDARD
TZOFFSETFROM:+0200
TZOFFSETTO:+0100
TZNAME:CET
DTSTART:20261025T010000
END:STANDARD
END:VTIMEZONE
BEGIN:VEVENT
DTSTART;TZID=Europe/Berlin:20260421T000000
DTEND;TZID=Europe/Berlin:20260421T000000
DTSTAMP:20260420T054502
CREATED:20260108T074007Z
LAST-MODIFIED:20260108T074113Z
UID:2113-1776729600-1776729600@marienschule-stuttgart.de
SUMMARY:VERA Deutsch- Lesen Klasse 3
DESCRIPTION:
URL:http://marienschule-stuttgart.de/termine/vera-deutsch-lesen/
END:VEVENT
BEGIN:VEVENT
DTSTART;TZID=Europe/Berlin:20260423T000000
DTEND;TZID=Europe/Berlin:20260423T000000
DTSTAMP:20260420T054502
CREATED:20260108T074053Z
LAST-MODIFIED:20260108T074053Z
UID:2115-1776902400-1776902400@marienschule-stuttgart.de
SUMMARY:VERA Deutsch- Sprachgebrauch Klasse 3
DESCRIPTION:
URL:http://marienschule-stuttgart.de/termine/vera-deutsch-sprachgebrauch-klasse-3/
END:VEVENT
BEGIN:VEVENT
DTSTART;TZID=Europe/Berlin:20260428T000000
DTEND;TZID=Europe/Berlin:20260428T000000
DTSTAMP:20260420T054502
CREATED:20260108T074145Z
LAST-MODIFIED:20260108T074301Z
UID:2118-1777334400-1777334400@marienschule-stuttgart.de
SUMMARY:VERA Mathe Klasse 3
DESCRIPTION:
URL:http://marienschule-stuttgart.de/termine/vera-mathe-klasse-3/
END:VEVENT
END:VCALENDAR