BEGIN:VCALENDAR
VERSION:2.0
PRODID:-//Marienschule Stuttgart - ECPv6.10.1.1//NONSGML v1.0//EN
CALSCALE:GREGORIAN
METHOD:PUBLISH
X-ORIGINAL-URL:http://marienschule-stuttgart.de
X-WR-CALDESC:Veranstaltungen für Marienschule Stuttgart
REFRESH-INTERVAL;VALUE=DURATION:PT1H
X-Robots-Tag:noindex
X-PUBLISHED-TTL:PT1H
BEGIN:VTIMEZONE
TZID:Europe/Berlin
BEGIN:DAYLIGHT
TZOFFSETFROM:+0100
TZOFFSETTO:+0200
TZNAME:CEST
DTSTART:20240331T010000
END:DAYLIGHT
BEGIN:STANDARD
TZOFFSETFROM:+0200
TZOFFSETTO:+0100
TZNAME:CET
DTSTART:20241027T010000
END:STANDARD
END:VTIMEZONE
BEGIN:VEVENT
DTSTART;TZID=Europe/Berlin:20240307T000000
DTEND;TZID=Europe/Berlin:20240307T000000
DTSTAMP:20260424T005901
CREATED:20240130T133604Z
LAST-MODIFIED:20240130T133604Z
UID:1770-1709769600-1709769600@marienschule-stuttgart.de
SUMMARY:Klassenpflegschaftsabende Klassen 4
DESCRIPTION:Die Uhrzeiten entnehmen Sie Ihrer Einladung.
URL:http://marienschule-stuttgart.de/termine/klassenpflegschaftsabende-klassen-4/
END:VEVENT
BEGIN:VEVENT
DTSTART;TZID=Europe/Berlin:20240314T000000
DTEND;TZID=Europe/Berlin:20240314T000000
DTSTAMP:20260424T005901
CREATED:20240130T133444Z
LAST-MODIFIED:20240130T133444Z
UID:1768-1710374400-1710374400@marienschule-stuttgart.de
SUMMARY:Klassenpflegschaftsabende Klasse 3
DESCRIPTION:Die Uhrzeiten entnehmen Sie Ihrer Einladung.
URL:http://marienschule-stuttgart.de/termine/klassenpflegschaftsabende-klasse-3/
END:VEVENT
BEGIN:VEVENT
DTSTART;TZID=Europe/Berlin:20240318T000000
DTEND;TZID=Europe/Berlin:20240318T000000
DTSTAMP:20260424T005901
CREATED:20240130T133304Z
LAST-MODIFIED:20240130T133400Z
UID:1766-1710720000-1710720000@marienschule-stuttgart.de
SUMMARY:Klassenpflegschaftsabende Klassen 1 und 2
DESCRIPTION:Die Uhrzeiten entnehmen Sie Ihrer Einladung.
URL:http://marienschule-stuttgart.de/termine/klassenpflegschaftsabende-klassen-1-und-2/
END:VEVENT
BEGIN:VEVENT
DTSTART;VALUE=DATE:20240323
DTEND;VALUE=DATE:20240407
DTSTAMP:20260424T005901
CREATED:20230925T073135Z
LAST-MODIFIED:20230925T073135Z
UID:1657-1711152000-1712447999@marienschule-stuttgart.de
SUMMARY:Osterferien
DESCRIPTION:
URL:http://marienschule-stuttgart.de/termine/osterferien-3/
END:VEVENT
END:VCALENDAR