BEGIN:VCALENDAR
VERSION:2.0
PRODID:-//Marienschule Stuttgart - ECPv6.10.1.1//NONSGML v1.0//EN
CALSCALE:GREGORIAN
METHOD:PUBLISH
X-WR-CALNAME:Marienschule Stuttgart
X-ORIGINAL-URL:http://marienschule-stuttgart.de
X-WR-CALDESC:Veranstaltungen für Marienschule Stuttgart
REFRESH-INTERVAL;VALUE=DURATION:PT1H
X-Robots-Tag:noindex
X-PUBLISHED-TTL:PT1H
BEGIN:VTIMEZONE
TZID:Europe/Berlin
BEGIN:DAYLIGHT
TZOFFSETFROM:+0100
TZOFFSETTO:+0200
TZNAME:CEST
DTSTART:20240331T010000
END:DAYLIGHT
BEGIN:STANDARD
TZOFFSETFROM:+0200
TZOFFSETTO:+0100
TZNAME:CET
DTSTART:20241027T010000
END:STANDARD
END:VTIMEZONE
BEGIN:VEVENT
DTSTART;VALUE=DATE:20240323
DTEND;VALUE=DATE:20240407
DTSTAMP:20260423T230910
CREATED:20230925T073135Z
LAST-MODIFIED:20230925T073135Z
UID:1657-1711152000-1712447999@marienschule-stuttgart.de
SUMMARY:Osterferien
DESCRIPTION:
URL:http://marienschule-stuttgart.de/termine/osterferien-3/
END:VEVENT
BEGIN:VEVENT
DTSTART;TZID=Europe/Berlin:20240416T080000
DTEND;TZID=Europe/Berlin:20240416T120000
DTSTAMP:20260423T230910
CREATED:20240111T084420Z
LAST-MODIFIED:20240111T084420Z
UID:1755-1713254400-1713268800@marienschule-stuttgart.de
SUMMARY:VERA Deutsch I
DESCRIPTION:Für Klassenstufe 3.
URL:http://marienschule-stuttgart.de/termine/vera-deutsch-i/
END:VEVENT
BEGIN:VEVENT
DTSTART;TZID=Europe/Berlin:20240418T080000
DTEND;TZID=Europe/Berlin:20240418T113000
DTSTAMP:20260423T230910
CREATED:20240111T084451Z
LAST-MODIFIED:20240111T084648Z
UID:1757-1713427200-1713439800@marienschule-stuttgart.de
SUMMARY:VERA Deutsch II
DESCRIPTION:Für Klassenstufe 3.
URL:http://marienschule-stuttgart.de/termine/vera-deutsch-ii/
END:VEVENT
BEGIN:VEVENT
DTSTART;TZID=Europe/Berlin:20240422T080000
DTEND;TZID=Europe/Berlin:20240425T122500
DTSTAMP:20260423T230910
CREATED:20240221T100009Z
LAST-MODIFIED:20240221T100009Z
UID:1773-1713772800-1714047900@marienschule-stuttgart.de
SUMMARY:Projektwoche "Kinder der Marienschule"
DESCRIPTION:Montag bis Donnerstag.
URL:http://marienschule-stuttgart.de/termine/projektwoche-kinder-der-marienschule/
END:VEVENT
BEGIN:VEVENT
DTSTART;TZID=Europe/Berlin:20240425T150000
DTEND;TZID=Europe/Berlin:20240425T173000
DTSTAMP:20260423T230910
CREATED:20240221T100053Z
LAST-MODIFIED:20240221T100053Z
UID:1775-1714057200-1714066200@marienschule-stuttgart.de
SUMMARY:Frühlingsfest
DESCRIPTION:
URL:http://marienschule-stuttgart.de/termine/fruehlingsfest-2/
END:VEVENT
BEGIN:VEVENT
DTSTART;TZID=Europe/Berlin:20240426T080000
DTEND;TZID=Europe/Berlin:20240426T113000
DTSTAMP:20260423T230910
CREATED:20240111T084528Z
LAST-MODIFIED:20240111T084715Z
UID:1759-1714118400-1714131000@marienschule-stuttgart.de
SUMMARY:VERA Mathe
DESCRIPTION:Für Klassenstufe 3.
URL:http://marienschule-stuttgart.de/termine/vera-mathe/
END:VEVENT
END:VCALENDAR