BEGIN:VCALENDAR
VERSION:2.0
PRODID:-//Marienschule Stuttgart - ECPv6.10.1.1//NONSGML v1.0//EN
CALSCALE:GREGORIAN
METHOD:PUBLISH
X-WR-CALNAME:Marienschule Stuttgart
X-ORIGINAL-URL:http://marienschule-stuttgart.de
X-WR-CALDESC:Veranstaltungen für Marienschule Stuttgart
REFRESH-INTERVAL;VALUE=DURATION:PT1H
X-Robots-Tag:noindex
X-PUBLISHED-TTL:PT1H
BEGIN:VTIMEZONE
TZID:Europe/Berlin
BEGIN:DAYLIGHT
TZOFFSETFROM:+0100
TZOFFSETTO:+0200
TZNAME:CEST
DTSTART:20240331T010000
END:DAYLIGHT
BEGIN:STANDARD
TZOFFSETFROM:+0200
TZOFFSETTO:+0100
TZNAME:CET
DTSTART:20241027T010000
END:STANDARD
END:VTIMEZONE
BEGIN:VEVENT
DTSTART;VALUE=DATE:20240725
DTEND;VALUE=DATE:20240908
DTSTAMP:20260423T134804
CREATED:20230925T073426Z
LAST-MODIFIED:20230925T073426Z
UID:1663-1721865600-1725753599@marienschule-stuttgart.de
SUMMARY:Sommerferien
DESCRIPTION:
URL:http://marienschule-stuttgart.de/termine/sommerferien/
END:VEVENT
BEGIN:VEVENT
DTSTART;TZID=Europe/Berlin:20240909T083000
DTEND;TZID=Europe/Berlin:20240909T160000
DTSTAMP:20260423T134804
CREATED:20240903T130222Z
LAST-MODIFIED:20240903T130222Z
UID:1849-1725870600-1725897600@marienschule-stuttgart.de
SUMMARY:Erster Schultag nach den Sommerferien
DESCRIPTION:Die Klassenstufen 2-4 starten über einen offenen Anfang zwischen 8.30 Uhr und 8.45 Uhr.
URL:http://marienschule-stuttgart.de/termine/erster-schultag-nach-den-sommerferien-5/
END:VEVENT
BEGIN:VEVENT
DTSTART;TZID=Europe/Berlin:20240914T090000
DTEND;TZID=Europe/Berlin:20240914T130000
DTSTAMP:20260423T134804
CREATED:20240607T062844Z
LAST-MODIFIED:20240607T062844Z
UID:1834-1726304400-1726318800@marienschule-stuttgart.de
SUMMARY:Einschulungsfeier
DESCRIPTION:Die genaue Uhrzeit entnehmen Sie Ihrer Einladung.
URL:http://marienschule-stuttgart.de/termine/einschulungsfeier-3/
END:VEVENT
END:VCALENDAR