BEGIN:VCALENDAR
VERSION:2.0
PRODID:-//Marienschule Stuttgart - ECPv6.10.1.1//NONSGML v1.0//EN
CALSCALE:GREGORIAN
METHOD:PUBLISH
X-ORIGINAL-URL:https://marienschule-stuttgart.de
X-WR-CALDESC:Veranstaltungen für Marienschule Stuttgart
REFRESH-INTERVAL;VALUE=DURATION:PT1H
X-Robots-Tag:noindex
X-PUBLISHED-TTL:PT1H
BEGIN:VTIMEZONE
TZID:Europe/Berlin
BEGIN:DAYLIGHT
TZOFFSETFROM:+0100
TZOFFSETTO:+0200
TZNAME:CEST
DTSTART:20250330T010000
END:DAYLIGHT
BEGIN:STANDARD
TZOFFSETFROM:+0200
TZOFFSETTO:+0100
TZNAME:CET
DTSTART:20251026T010000
END:STANDARD
END:VTIMEZONE
BEGIN:VEVENT
DTSTART;TZID=Europe/Berlin:20250704T163000
DTEND;TZID=Europe/Berlin:20250704T190000
DTSTAMP:20260422T210305
CREATED:20250520T102211Z
LAST-MODIFIED:20250520T102211Z
UID:2009-1751646600-1751655600@marienschule-stuttgart.de
SUMMARY:Flügelschlag-Projekt
DESCRIPTION:
URL:https://marienschule-stuttgart.de/termine/fluegelschlag-projekt-2/
LOCATION:Altes Feuerwehrhaus Süd (Heslach)
END:VEVENT
END:VCALENDAR