BEGIN:VCALENDAR
VERSION:2.0
PRODID:-//Marienschule Stuttgart - ECPv6.10.1.1//NONSGML v1.0//EN
CALSCALE:GREGORIAN
METHOD:PUBLISH
X-ORIGINAL-URL:https://marienschule-stuttgart.de
X-WR-CALDESC:Veranstaltungen für Marienschule Stuttgart
REFRESH-INTERVAL;VALUE=DURATION:PT1H
X-Robots-Tag:noindex
X-PUBLISHED-TTL:PT1H
BEGIN:VTIMEZONE
TZID:Europe/Berlin
BEGIN:DAYLIGHT
TZOFFSETFROM:+0100
TZOFFSETTO:+0200
TZNAME:CEST
DTSTART:20250330T010000
END:DAYLIGHT
BEGIN:STANDARD
TZOFFSETFROM:+0200
TZOFFSETTO:+0100
TZNAME:CET
DTSTART:20251026T010000
END:STANDARD
END:VTIMEZONE
BEGIN:VEVENT
DTSTART;TZID=Europe/Berlin:20250915T083000
DTEND;TZID=Europe/Berlin:20250915T160000
DTSTAMP:20260422T173714
CREATED:20250728T083252Z
LAST-MODIFIED:20250728T083252Z
UID:2044-1757925000-1757952000@marienschule-stuttgart.de
SUMMARY:Erster Schultag nach den Ferien
DESCRIPTION:Beginn über einen offenen Anfang zwischen 8.30-8.45 Uhr.
URL:https://marienschule-stuttgart.de/termine/erster-schultag-nach-den-ferien/
END:VEVENT
END:VCALENDAR