BEGIN:VCALENDAR
VERSION:2.0
PRODID:-//Marienschule Stuttgart - ECPv6.10.1.1//NONSGML v1.0//EN
CALSCALE:GREGORIAN
METHOD:PUBLISH
X-WR-CALNAME:Marienschule Stuttgart
X-ORIGINAL-URL:https://marienschule-stuttgart.de
X-WR-CALDESC:Veranstaltungen für Marienschule Stuttgart
REFRESH-INTERVAL;VALUE=DURATION:PT1H
X-Robots-Tag:noindex
X-PUBLISHED-TTL:PT1H
BEGIN:VTIMEZONE
TZID:Europe/Berlin
BEGIN:DAYLIGHT
TZOFFSETFROM:+0100
TZOFFSETTO:+0200
TZNAME:CEST
DTSTART:20250330T010000
END:DAYLIGHT
BEGIN:STANDARD
TZOFFSETFROM:+0200
TZOFFSETTO:+0100
TZNAME:CET
DTSTART:20251026T010000
END:STANDARD
END:VTIMEZONE
BEGIN:VEVENT
DTSTART;VALUE=DATE:20250731
DTEND;VALUE=DATE:20250915
DTSTAMP:20260422T154119
CREATED:20241025T084408Z
LAST-MODIFIED:20241025T084408Z
UID:1900-1753920000-1757894399@marienschule-stuttgart.de
SUMMARY:Sommerferien
DESCRIPTION:Sommerferien
URL:https://marienschule-stuttgart.de/termine/sommerferien-2/
END:VEVENT
BEGIN:VEVENT
DTSTART;TZID=Europe/Berlin:20250915T083000
DTEND;TZID=Europe/Berlin:20250915T160000
DTSTAMP:20260422T154119
CREATED:20250728T083252Z
LAST-MODIFIED:20250728T083252Z
UID:2044-1757925000-1757952000@marienschule-stuttgart.de
SUMMARY:Erster Schultag nach den Ferien
DESCRIPTION:Beginn über einen offenen Anfang zwischen 8.30-8.45 Uhr.
URL:https://marienschule-stuttgart.de/termine/erster-schultag-nach-den-ferien/
END:VEVENT
BEGIN:VEVENT
DTSTART;TZID=Europe/Berlin:20250917T190000
DTEND;TZID=Europe/Berlin:20250917T213000
DTSTAMP:20260422T154119
CREATED:20250728T083424Z
LAST-MODIFIED:20250728T083424Z
UID:2046-1758135600-1758144600@marienschule-stuttgart.de
SUMMARY:Erster Elternabend für unsere neuen ErstklässlerInnen
DESCRIPTION:Die genaue Uhrzeit entnehmen Sie Ihrer Einladung.
URL:https://marienschule-stuttgart.de/termine/erster-elternabend-fuer-unsere-neuen-erstklaesslerinnen/
END:VEVENT
BEGIN:VEVENT
DTSTART;TZID=Europe/Berlin:20250920T000000
DTEND;TZID=Europe/Berlin:20250920T000000
DTSTAMP:20260422T154119
CREATED:20250728T083136Z
LAST-MODIFIED:20250728T083136Z
UID:2042-1758326400-1758326400@marienschule-stuttgart.de
SUMMARY:Einschulungsfeier
DESCRIPTION:Die genaue Uhrzeit entnehmen Sie bitte Ihrer schriftlichen Einladung.
URL:https://marienschule-stuttgart.de/termine/einschulungsfeier-4/
END:VEVENT
END:VCALENDAR