BEGIN:VCALENDAR
VERSION:2.0
PRODID:-//Marienschule Stuttgart - ECPv6.10.1.1//NONSGML v1.0//EN
CALSCALE:GREGORIAN
METHOD:PUBLISH
X-WR-CALNAME:Marienschule Stuttgart
X-ORIGINAL-URL:https://marienschule-stuttgart.de
X-WR-CALDESC:Veranstaltungen für Marienschule Stuttgart
REFRESH-INTERVAL;VALUE=DURATION:PT1H
X-Robots-Tag:noindex
X-PUBLISHED-TTL:PT1H
BEGIN:VTIMEZONE
TZID:Europe/Berlin
BEGIN:DAYLIGHT
TZOFFSETFROM:+0100
TZOFFSETTO:+0200
TZNAME:CEST
DTSTART:20250330T010000
END:DAYLIGHT
BEGIN:STANDARD
TZOFFSETFROM:+0200
TZOFFSETTO:+0100
TZNAME:CET
DTSTART:20251026T010000
END:STANDARD
END:VTIMEZONE
BEGIN:VEVENT
DTSTART;TZID=Europe/Berlin:20251008T123000
DTEND;TZID=Europe/Berlin:20251008T170000
DTSTAMP:20260422T141150
CREATED:20250923T155105Z
LAST-MODIFIED:20250923T155105Z
UID:2061-1759926600-1759942800@marienschule-stuttgart.de
SUMMARY:Pädagogischer Nachmittag der Lehrkräfte und Ganztagskräfte
DESCRIPTION:Es findet kein Mittagessen und keine Ganztags-AGs statt.
URL:https://marienschule-stuttgart.de/termine/paedagogischer-nachmittag-der-lehrkraefte-und-ganztagskraefte/
END:VEVENT
BEGIN:VEVENT
DTSTART;TZID=Europe/Berlin:20251022T000000
DTEND;TZID=Europe/Berlin:20251022T000000
DTSTAMP:20260422T141150
CREATED:20250923T154904Z
LAST-MODIFIED:20250923T154904Z
UID:2057-1761091200-1761091200@marienschule-stuttgart.de
SUMMARY:Klassenpflegschaftsabend Klassenstufe 2 und 3
DESCRIPTION:Die Uhrzeit erfahren Sie über Ihre Einladung.
URL:https://marienschule-stuttgart.de/termine/klassenpflegschaftsabend-klassenstufe-2-und-3/
END:VEVENT
BEGIN:VEVENT
DTSTART;TZID=Europe/Berlin:20251023T000000
DTEND;TZID=Europe/Berlin:20251023T000000
DTSTAMP:20260422T141150
CREATED:20250923T154956Z
LAST-MODIFIED:20250923T155310Z
UID:2059-1761177600-1761177600@marienschule-stuttgart.de
SUMMARY:Klassenpflegschaftsabend Klassenstufe 4
DESCRIPTION:Die Uhrzeit erfahren Sie über Ihre Einladung.
URL:https://marienschule-stuttgart.de/termine/klassenpflegschaftsabend-klassenstufe-4/
END:VEVENT
END:VCALENDAR